BEGIN:VCALENDAR
VERSION:2.0
PRODID:concerti//https://www.concerti.de
CALSCALE:GREGORIAN
BEGIN:VTIMEZONE
TZID:Europe/Berlin
X-LIC-LOCATION:Europe/Berlin
BEGIN:DAYLIGHT
TZOFFSETFROM:+0100
TZOFFSETTO:+0200
TZNAME:CEST
DTSTART:19700329T020000
RRULE:FREQ=YEARLY;BYMONTH=3;BYDAY=-1SU
END:DAYLIGHT
BEGIN:STANDARD
TZOFFSETFROM:+0200
TZOFFSETTO:+0100
TZNAME:CET
DTSTART:19701025T030000
RRULE:FREQ=YEARLY;BYMONTH=10;BYDAY=-1SU
END:STANDARD
END:VTIMEZONE
BEGIN:VEVENT
UID:aca99f6b6f454de79c1991b908a97e51
SUMMARY:Patrick Grahl (Tenor), Klara Hornig (Klavier)
URL:https://www.concerti.de/termine/patrick-grahl-tenor-klara-hornig-klavier-historische-stadthalle-865520/
DTSTART;TZID=Europe/Berlin:20260511T200000
DTEND;TZID=Europe/Berlin:20260511T220000
DESCRIPTION:Interpreten: Patrick Grahl (Tenor)\, Klara Hornig (Klavier) \nProgramm: Werke von Schumann\, Mendelssohn\, Weismann & Weyrauch \nhttps://www.concerti.de/termine/patrick-grahl-tenor-klara-hornig-klavier-historische-stadthalle-865520/
LOCATION:Historische Stadthalle Wuppertal\, Johannisberg 40\, 42103 Wuppertal
END:VEVENT
END:VCALENDAR