BEGIN:VCALENDAR
VERSION:2.0
PRODID:concerti//https://www.concerti.de
CALSCALE:GREGORIAN
BEGIN:VTIMEZONE
TZID:Europe/Berlin
X-LIC-LOCATION:Europe/Berlin
BEGIN:DAYLIGHT
TZOFFSETFROM:+0100
TZOFFSETTO:+0200
TZNAME:CEST
DTSTART:19700329T020000
RRULE:FREQ=YEARLY;BYMONTH=3;BYDAY=-1SU
END:DAYLIGHT
BEGIN:STANDARD
TZOFFSETFROM:+0200
TZOFFSETTO:+0100
TZNAME:CET
DTSTART:19701025T030000
RRULE:FREQ=YEARLY;BYMONTH=10;BYDAY=-1SU
END:STANDARD
END:VTIMEZONE
BEGIN:VEVENT
UID:4e9e12dd2ed7baecbc7ce3901a08c69f
SUMMARY:Berliner Lautsprecherorchester, Kirsten Reese (Leitung), Wolfgang Heiniger (Leitung) - Klangzeitort
URL:https://www.concerti.de/termine/berliner-lautsprecherorchester-kirsten-reese-leitung-wolfgang-heiniger-leitung-hochschule-fuer-musik-hanns-eisler-berlin-865233/
DTSTART;TZID=Europe/Berlin:20260506T190000
DTEND;TZID=Europe/Berlin:20260506T210000
DESCRIPTION:Interpreten: Berliner Lautsprecherorchester\, Kirsten Reese (Leitung)\, Wolfgang Heiniger (Leitung) \nhttps://www.concerti.de/termine/berliner-lautsprecherorchester-kirsten-reese-leitung-wolfgang-heiniger-leitung-hochschule-fuer-musik-hanns-eisler-berlin-865233/
LOCATION:Hochschule für Musik „Hanns Eisler“ Berlin\, Schlossplatz 7\, 10178 Berlin
END:VEVENT
END:VCALENDAR