BEGIN:VCALENDAR
VERSION:2.0
PRODID:concerti//https://www.concerti.de
CALSCALE:GREGORIAN
BEGIN:VTIMEZONE
TZID:Europe/Berlin
X-LIC-LOCATION:Europe/Berlin
BEGIN:DAYLIGHT
TZOFFSETFROM:+0100
TZOFFSETTO:+0200
TZNAME:CEST
DTSTART:19700329T020000
RRULE:FREQ=YEARLY;BYMONTH=3;BYDAY=-1SU
END:DAYLIGHT
BEGIN:STANDARD
TZOFFSETFROM:+0200
TZOFFSETTO:+0100
TZNAME:CET
DTSTART:19701025T030000
RRULE:FREQ=YEARLY;BYMONTH=10;BYDAY=-1SU
END:STANDARD
END:VTIMEZONE
BEGIN:VEVENT
UID:a5be8bf40da2867271f0f47eb33606df
SUMMARY:Rossini: Il barbiere di Siviglia
URL:https://www.concerti.de/termine/rossini-il-barbiere-di-siviglia-theater-pforzheim-843344/
DTSTART;TZID=Europe/Berlin:20260710T193000
DTEND;TZID=Europe/Berlin:20260710T213000
DESCRIPTION:Interpreten: Leopold Bier (Conte Almaviva)\, Daniel Nicholson (Figaro)\, Lukas Schmid-Wedekind (Bartolo)\, Lou Denès/Cecilia Pastawski (Rosina)\, Aleksandar Stefanoski (Don Basilio)\, Michael Pichler (Leitung)\, Urs Häberli (Regie) \nhttps://www.concerti.de/termine/rossini-il-barbiere-di-siviglia-theater-pforzheim-843344/
LOCATION:Theater Pforzheim\, Am Waisenhausplatz 5\, 75172 Pforzheim
END:VEVENT
END:VCALENDAR