BEGIN:VCALENDAR
VERSION:2.0
PRODID:concerti//https://www.concerti.de
CALSCALE:GREGORIAN
BEGIN:VTIMEZONE
TZID:Europe/Berlin
X-LIC-LOCATION:Europe/Berlin
BEGIN:DAYLIGHT
TZOFFSETFROM:+0100
TZOFFSETTO:+0200
TZNAME:CEST
DTSTART:19700329T020000
RRULE:FREQ=YEARLY;BYMONTH=3;BYDAY=-1SU
END:DAYLIGHT
BEGIN:STANDARD
TZOFFSETFROM:+0200
TZOFFSETTO:+0100
TZNAME:CET
DTSTART:19701025T030000
RRULE:FREQ=YEARLY;BYMONTH=10;BYDAY=-1SU
END:STANDARD
END:VTIMEZONE
BEGIN:VEVENT
UID:b7c4ecb1dab1061c71e8b22c4be203ac
SUMMARY:Violin Road Stories
URL:https://www.concerti.de/termine/violin-road-stories-hospitalhof-stuttgart-843299/
DTSTART;TZID=Europe/Berlin:20260424T200000
DTEND;TZID=Europe/Berlin:20260424T220000
DESCRIPTION:Interpreten: Stuttgarter Kammerorchester\, Florian Willeitner (Violine & Leitung) \nhttps://www.concerti.de/termine/violin-road-stories-hospitalhof-stuttgart-843299/
LOCATION:Hospitalhof Stuttgart\, Büchsenstraße 33\, 70174 Stuttgart
END:VEVENT
END:VCALENDAR