BEGIN:VCALENDAR
VERSION:2.0
PRODID:concerti//https://www.concerti.de
CALSCALE:GREGORIAN
BEGIN:VTIMEZONE
TZID:Europe/Berlin
X-LIC-LOCATION:Europe/Berlin
BEGIN:DAYLIGHT
TZOFFSETFROM:+0100
TZOFFSETTO:+0200
TZNAME:CEST
DTSTART:19700329T020000
RRULE:FREQ=YEARLY;BYMONTH=3;BYDAY=-1SU
END:DAYLIGHT
BEGIN:STANDARD
TZOFFSETFROM:+0200
TZOFFSETTO:+0100
TZNAME:CET
DTSTART:19701025T030000
RRULE:FREQ=YEARLY;BYMONTH=10;BYDAY=-1SU
END:STANDARD
END:VTIMEZONE
BEGIN:VEVENT
UID:f3f284bf0cb29435637d800e56385dc7
SUMMARY:Souad Massi (vocals &amp; guitar)
URL:https://www.concerti.de/termine/souad-massi-vocals-guitar-burghof-841448/
DTSTART;TZID=Europe/Berlin:20260507T200000
DTEND;TZID=Europe/Berlin:20260507T220000
DESCRIPTION:Interpreten: Souad Massi (vocals & guitar) \nhttps://www.concerti.de/termine/souad-massi-vocals-guitar-burghof-841448/
LOCATION:Burghof Lörrach\, Herrenstraße 5\, 79539 Lörrach
END:VEVENT
END:VCALENDAR