BEGIN:VCALENDAR
VERSION:2.0
PRODID:concerti//https://www.concerti.de
CALSCALE:GREGORIAN
BEGIN:VTIMEZONE
TZID:Europe/Berlin
X-LIC-LOCATION:Europe/Berlin
BEGIN:DAYLIGHT
TZOFFSETFROM:+0100
TZOFFSETTO:+0200
TZNAME:CEST
DTSTART:19700329T020000
RRULE:FREQ=YEARLY;BYMONTH=3;BYDAY=-1SU
END:DAYLIGHT
BEGIN:STANDARD
TZOFFSETFROM:+0200
TZOFFSETTO:+0100
TZNAME:CET
DTSTART:19701025T030000
RRULE:FREQ=YEARLY;BYMONTH=10;BYDAY=-1SU
END:STANDARD
END:VTIMEZONE
BEGIN:VEVENT
UID:c76272f68c5156c17aea0922b74e49b0
SUMMARY:Hagen Quartett
URL:https://www.concerti.de/termine/hagen-quartett-graf-zeppelin-haus-840164/
DTSTART;TZID=Europe/Berlin:20260425T193000
DTEND;TZID=Europe/Berlin:20260425T213000
DESCRIPTION:Interpreten: Hagen Quartett \nProgramm: Beethoven: Streichquartett f-Moll op. 95 „Serioso“\, Webern: Langsamer Satz\, Schubert: Streichquartett a-Moll D 804 „Rosamunde“ \nhttps://www.concerti.de/termine/hagen-quartett-graf-zeppelin-haus-840164/
LOCATION:Graf-Zeppelin-Haus\, Olgastraße 20\, 88045 Friedrichshafen
END:VEVENT
END:VCALENDAR