BEGIN:VCALENDAR
VERSION:2.0
PRODID:concerti//https://www.concerti.de
CALSCALE:GREGORIAN
BEGIN:VTIMEZONE
TZID:Europe/Berlin
X-LIC-LOCATION:Europe/Berlin
BEGIN:DAYLIGHT
TZOFFSETFROM:+0100
TZOFFSETTO:+0200
TZNAME:CEST
DTSTART:19700329T020000
RRULE:FREQ=YEARLY;BYMONTH=3;BYDAY=-1SU
END:DAYLIGHT
BEGIN:STANDARD
TZOFFSETFROM:+0200
TZOFFSETTO:+0100
TZNAME:CET
DTSTART:19701025T030000
RRULE:FREQ=YEARLY;BYMONTH=10;BYDAY=-1SU
END:STANDARD
END:VTIMEZONE
BEGIN:VEVENT
UID:0245d5ae943ca911ca838c03320872ca
SUMMARY:Martin Šulc (Akkordeon), Kalliopé Trio Prague - Schloss Kirchstetten Klassikfestival
URL:https://www.concerti.de/termine/martin-sulc-akkordeon-kalliope-trio-prague-839207/
DTSTART;TZID=Europe/Berlin:20261007T193000
DTEND;TZID=Europe/Berlin:20261007T213000
DESCRIPTION:Interpreten: Martin Šulc (Akkordeon)\, Kalliopé Trio Prague \nProgramm: Martinů: Bergerettes\, Fauré: Klaviertrio\, Debussy: Trio G-Dur\, Jiří Kabát: Neues Werk \nhttps://www.concerti.de/termine/martin-sulc-akkordeon-kalliope-trio-prague-839207/
LOCATION:Schloss Kirchstetten\, Kirchstetten
END:VEVENT
END:VCALENDAR