BEGIN:VCALENDAR
VERSION:2.0
PRODID:concerti//https://www.concerti.de
CALSCALE:GREGORIAN
BEGIN:VTIMEZONE
TZID:Europe/Berlin
X-LIC-LOCATION:Europe/Berlin
BEGIN:DAYLIGHT
TZOFFSETFROM:+0100
TZOFFSETTO:+0200
TZNAME:CEST
DTSTART:19700329T020000
RRULE:FREQ=YEARLY;BYMONTH=3;BYDAY=-1SU
END:DAYLIGHT
BEGIN:STANDARD
TZOFFSETFROM:+0200
TZOFFSETTO:+0100
TZNAME:CET
DTSTART:19701025T030000
RRULE:FREQ=YEARLY;BYMONTH=10;BYDAY=-1SU
END:STANDARD
END:VTIMEZONE
BEGIN:VEVENT
UID:28d242d84ee72b8dffdeb7ced9648cc9
SUMMARY:J. Strauss (Sohn): Wiener Blut - Festspiele auf Schloss Tabor
URL:https://www.concerti.de/termine/j-strauss-sohn-wiener-blut-839126/
DTSTART;TZID=Europe/Berlin:20260812T200000
DTEND;TZID=Europe/Berlin:20260812T220000
DESCRIPTION:Interpreten: Junge Philharmonie Brandenburg\, Peter Sommerer (Leitung)\, Rita Sereinig (Regie) \nhttps://www.concerti.de/termine/j-strauss-sohn-wiener-blut-839126/
LOCATION:Schloss Tabor\, Neuhaus am Klausenbach
END:VEVENT
END:VCALENDAR