BEGIN:VCALENDAR
VERSION:2.0
PRODID:concerti//https://www.concerti.de
CALSCALE:GREGORIAN
BEGIN:VTIMEZONE
TZID:Europe/Berlin
X-LIC-LOCATION:Europe/Berlin
BEGIN:DAYLIGHT
TZOFFSETFROM:+0100
TZOFFSETTO:+0200
TZNAME:CEST
DTSTART:19700329T020000
RRULE:FREQ=YEARLY;BYMONTH=3;BYDAY=-1SU
END:DAYLIGHT
BEGIN:STANDARD
TZOFFSETFROM:+0200
TZOFFSETTO:+0100
TZNAME:CET
DTSTART:19701025T030000
RRULE:FREQ=YEARLY;BYMONTH=10;BYDAY=-1SU
END:STANDARD
END:VTIMEZONE
BEGIN:VEVENT
UID:3ae38196c98b588e2dcbc7288a08d5dc
SUMMARY:Abschlusskonzert - Gartenreichsommer: Schlosskonzert
URL:https://www.concerti.de/termine/abschlusskonzert-838766/
DTSTART;TZID=Europe/Berlin:20260830T170000
DTEND;TZID=Europe/Berlin:20260830T190000
DESCRIPTION:Interpreten: Christine Schreiber (Harfe)\, Sebastian Kennerknecht (Klavier)\, Dessauer Streichquartett \nhttps://www.concerti.de/termine/abschlusskonzert-838766/
LOCATION:Schloss Mosigkau\, Dessau-Roßlau
END:VEVENT
END:VCALENDAR