BEGIN:VCALENDAR
VERSION:2.0
PRODID:concerti//https://www.concerti.de
CALSCALE:GREGORIAN
BEGIN:VTIMEZONE
TZID:Europe/Berlin
X-LIC-LOCATION:Europe/Berlin
BEGIN:DAYLIGHT
TZOFFSETFROM:+0100
TZOFFSETTO:+0200
TZNAME:CEST
DTSTART:19700329T020000
RRULE:FREQ=YEARLY;BYMONTH=3;BYDAY=-1SU
END:DAYLIGHT
BEGIN:STANDARD
TZOFFSETFROM:+0200
TZOFFSETTO:+0100
TZNAME:CET
DTSTART:19701025T030000
RRULE:FREQ=YEARLY;BYMONTH=10;BYDAY=-1SU
END:STANDARD
END:VTIMEZONE
BEGIN:VEVENT
UID:060bb413d3d78efd5e33f65d461d8166
SUMMARY:Benda: Medea - Ekhof Festival
URL:https://www.concerti.de/termine/benda-medea-838718/
DTSTART;TZID=Europe/Berlin:20260606T190000
DTEND;TZID=Europe/Berlin:20260606T210000
DESCRIPTION:Interpreten: Barockorchester der Thüringen Philharmonie Gotha-Eisenach\, Alexej Barchevitch (Leitung)\, Doerthe Maria Sandmann (Rezitation) \nhttps://www.concerti.de/termine/benda-medea-838718/
LOCATION:Ekhof-Theater\, Gotha
END:VEVENT
END:VCALENDAR