BEGIN:VCALENDAR
VERSION:2.0
PRODID:concerti//https://www.concerti.de
CALSCALE:GREGORIAN
BEGIN:VTIMEZONE
TZID:Europe/Berlin
X-LIC-LOCATION:Europe/Berlin
BEGIN:DAYLIGHT
TZOFFSETFROM:+0100
TZOFFSETTO:+0200
TZNAME:CEST
DTSTART:19700329T020000
RRULE:FREQ=YEARLY;BYMONTH=3;BYDAY=-1SU
END:DAYLIGHT
BEGIN:STANDARD
TZOFFSETFROM:+0200
TZOFFSETTO:+0100
TZNAME:CET
DTSTART:19701025T030000
RRULE:FREQ=YEARLY;BYMONTH=10;BYDAY=-1SU
END:STANDARD
END:VTIMEZONE
BEGIN:VEVENT
UID:93823070b9f45a5136f23a7e8e82f270
SUMMARY:Eröffnungskonzert - Gartenreichsommer: Schlosskonzert
URL:https://www.concerti.de/termine/eroeffnungskonzert-838698/
DTSTART;TZID=Europe/Berlin:20260509T180000
DTEND;TZID=Europe/Berlin:20260509T200000
DESCRIPTION:Interpreten: Ragna Schirmer (Hammerflügel) \nProgramm: Werke von C. Schumann\, R. Schumann & Beethoven \nhttps://www.concerti.de/termine/eroeffnungskonzert-838698/
LOCATION:Schloss\, Wörlitz
END:VEVENT
END:VCALENDAR