BEGIN:VCALENDAR
VERSION:2.0
PRODID:concerti//https://www.concerti.de
CALSCALE:GREGORIAN
BEGIN:VTIMEZONE
TZID:Europe/Berlin
X-LIC-LOCATION:Europe/Berlin
BEGIN:DAYLIGHT
TZOFFSETFROM:+0100
TZOFFSETTO:+0200
TZNAME:CEST
DTSTART:19700329T020000
RRULE:FREQ=YEARLY;BYMONTH=3;BYDAY=-1SU
END:DAYLIGHT
BEGIN:STANDARD
TZOFFSETFROM:+0200
TZOFFSETTO:+0100
TZNAME:CET
DTSTART:19701025T030000
RRULE:FREQ=YEARLY;BYMONTH=10;BYDAY=-1SU
END:STANDARD
END:VTIMEZONE
BEGIN:VEVENT
UID:b053fab48a08d67e7c434f8297f4afc9
SUMMARY:Bürgerkapelle Gries - Innsbrucker Promenadenkonzerte
URL:https://www.concerti.de/termine/buergerkapelle-gries-838090/
DTSTART;TZID=Europe/Berlin:20260730T193000
DTEND;TZID=Europe/Berlin:20260730T213000
DESCRIPTION:Interpreten: Bürgerkapelle Gries \nhttps://www.concerti.de/termine/buergerkapelle-gries-838090/
LOCATION:Hofburg\, Innsbruck
END:VEVENT
END:VCALENDAR