BEGIN:VCALENDAR
VERSION:2.0
PRODID:concerti//https://www.concerti.de
CALSCALE:GREGORIAN
BEGIN:VTIMEZONE
TZID:Europe/Berlin
X-LIC-LOCATION:Europe/Berlin
BEGIN:DAYLIGHT
TZOFFSETFROM:+0100
TZOFFSETTO:+0200
TZNAME:CEST
DTSTART:19700329T020000
RRULE:FREQ=YEARLY;BYMONTH=3;BYDAY=-1SU
END:DAYLIGHT
BEGIN:STANDARD
TZOFFSETFROM:+0200
TZOFFSETTO:+0100
TZNAME:CET
DTSTART:19701025T030000
RRULE:FREQ=YEARLY;BYMONTH=10;BYDAY=-1SU
END:STANDARD
END:VTIMEZONE
BEGIN:VEVENT
UID:dde6d75591c1a03e87fe284d1a7b2797
SUMMARY:Johannes Moritz (Trompete), Elisabeth Brauß (Klavier), Lech Festival Orchester, Tetsuro Ban (Leitung) - Lech Classic Festival
URL:https://www.concerti.de/termine/johannes-moritz-trompete-elisabeth-brauss-klavier-lech-festival-orchester-tetsuro-ban-leitung-836332/
DTSTART;TZID=Europe/Berlin:20260809T170000
DTEND;TZID=Europe/Berlin:20260809T190000
DESCRIPTION:Interpreten: Johannes Moritz (Trompete)\, Elisabeth Brauß (Klavier)\, Lech Festival Orchester\, Tetsuro Ban (Leitung) \nProgramm: Hummel: Trompetenkonzert E-Dur\, Mozart: Klavierkonzert Nr. 9 Es-Dur KV 271 „Jeunehomme“\, Beethgoven: Sinfonie Nr. 7 A-Dur op. 92 \nhttps://www.concerti.de/termine/johannes-moritz-trompete-elisabeth-brauss-klavier-lech-festival-orchester-tetsuro-ban-leitung-836332/
LOCATION:Lechwelten\, Konzertsaal\, Lech
END:VEVENT
END:VCALENDAR