BEGIN:VCALENDAR
VERSION:2.0
PRODID:concerti//https://www.concerti.de
CALSCALE:GREGORIAN
BEGIN:VTIMEZONE
TZID:Europe/Berlin
X-LIC-LOCATION:Europe/Berlin
BEGIN:DAYLIGHT
TZOFFSETFROM:+0100
TZOFFSETTO:+0200
TZNAME:CEST
DTSTART:19700329T020000
RRULE:FREQ=YEARLY;BYMONTH=3;BYDAY=-1SU
END:DAYLIGHT
BEGIN:STANDARD
TZOFFSETFROM:+0200
TZOFFSETTO:+0100
TZNAME:CET
DTSTART:19701025T030000
RRULE:FREQ=YEARLY;BYMONTH=10;BYDAY=-1SU
END:STANDARD
END:VTIMEZONE
BEGIN:VEVENT
UID:70b062ab64c8e18d912aff33ab8202f3
SUMMARY:Rossini: Der Barbier von Sevilla (konzertant) - Lech Classic Festival
URL:https://www.concerti.de/termine/rossini-der-barbier-von-sevilla-konzertant-836324/
DTSTART;TZID=Europe/Berlin:20260808T170000
DTEND;TZID=Europe/Berlin:20260808T190000
DESCRIPTION:Interpreten: Pavel Kolgatin (Graf Almaviva)\, Levente Páll (Bartolo)\, Margarita Gritskova (Rosina)\, Timos Sirlantzis (Don Basilio)\, Domen Križaj (Figaro)\, Alejandro Pizarro-Enríquez (Fiorello)\, Kyunghee Yang (Berta)\, Alejandro Pizarro-Enríquez (Offizier)\, Joseph Lorenz (Rezitation)\, Mitglieder des Bayerischen Staatsopernchores\, Lech Festival Orchester\, Tetsuro Ban (Leitung) \nhttps://www.concerti.de/termine/rossini-der-barbier-von-sevilla-konzertant-836324/
LOCATION:Lechwelten\, Konzertsaal\, Lech
END:VEVENT
END:VCALENDAR