BEGIN:VCALENDAR
VERSION:2.0
PRODID:concerti//https://www.concerti.de
CALSCALE:GREGORIAN
BEGIN:VTIMEZONE
TZID:Europe/Berlin
X-LIC-LOCATION:Europe/Berlin
BEGIN:DAYLIGHT
TZOFFSETFROM:+0100
TZOFFSETTO:+0200
TZNAME:CEST
DTSTART:19700329T020000
RRULE:FREQ=YEARLY;BYMONTH=3;BYDAY=-1SU
END:DAYLIGHT
BEGIN:STANDARD
TZOFFSETFROM:+0200
TZOFFSETTO:+0100
TZNAME:CET
DTSTART:19701025T030000
RRULE:FREQ=YEARLY;BYMONTH=10;BYDAY=-1SU
END:STANDARD
END:VTIMEZONE
BEGIN:VEVENT
UID:288efedff6887b56da4233cb60c6c60f
SUMMARY:Rossini entdecken - Lech Classic Festival
URL:https://www.concerti.de/termine/rossini-entdecken-836316/
DTSTART;TZID=Europe/Berlin:20260805T170000
DTEND;TZID=Europe/Berlin:20260805T190000
DESCRIPTION:Interpreten: Slávka Zámečníková (Sopran)\, Štěpánka Pučálková (Mezzosopran)\, Margarita Gritskova (Mezzosopran)\, Pavel Kolgatin (Tenor)\, Levente Páll (Bass)\, Mitglieder des Bayerischen Staatsopernchores\, Lech Festival Orchester\, Tetsuro Ban (Leitung) \nProgramm: Ouvertüre zu „La gazza ladra“\, Temporale aus „La Cenerentola“\, Giovanna D’Arco\, Ouvertüre zu „Guillaume Tell“ & Stabat Mater \nhttps://www.concerti.de/termine/rossini-entdecken-836316/
LOCATION:Lechwelten\, Konzertsaal\, Lech
END:VEVENT
END:VCALENDAR