BEGIN:VCALENDAR
VERSION:2.0
PRODID:concerti//https://www.concerti.de
CALSCALE:GREGORIAN
BEGIN:VTIMEZONE
TZID:Europe/Berlin
X-LIC-LOCATION:Europe/Berlin
BEGIN:DAYLIGHT
TZOFFSETFROM:+0100
TZOFFSETTO:+0200
TZNAME:CEST
DTSTART:19700329T020000
RRULE:FREQ=YEARLY;BYMONTH=3;BYDAY=-1SU
END:DAYLIGHT
BEGIN:STANDARD
TZOFFSETFROM:+0200
TZOFFSETTO:+0100
TZNAME:CET
DTSTART:19701025T030000
RRULE:FREQ=YEARLY;BYMONTH=10;BYDAY=-1SU
END:STANDARD
END:VTIMEZONE
BEGIN:VEVENT
UID:0ef04d5e8e34757b6436cfb292965916
SUMMARY:Maayan Licht (Sopran), Joel von Lerber (Harfe) - Schwetzinger SWR Festspiele
URL:https://www.concerti.de/termine/maayan-licht-sopran-joel-von-lerber-harfe-schloss-schwetzingen-835886/
DTSTART;TZID=Europe/Berlin:20260516T193000
DTEND;TZID=Europe/Berlin:20260516T213000
DESCRIPTION:Interpreten: Maayan Licht (Sopran)\, Joel von Lerber (Harfe) \nProgramm: Vivaldi: Il Giustino (Auszüge)\, Händel: The King shall rejoice HWV 260\, Serse (Auszüge)\, Alessandro (Auszüge)\, & Rinaldo (AUszüge)\, Smetana/Trneček: Die Moldau\, Hahn: À Chloris\, Fauré: Après un rêve op. 7/1\, Le papillon et la fleur op. 1/1 & Chanson d’amour op. 27/1\, Walter-Kühne: Fantasie über Themen aus „Eugen Onegin“\, Grandjany: The Colorado Trail op. 28\, Bizet: Carmen (Auszüge) \nhttps://www.concerti.de/termine/maayan-licht-sopran-joel-von-lerber-harfe-schloss-schwetzingen-835886/
LOCATION:Schloss Schwetzingen\, Schloß\, 68723 Schwetzingen
END:VEVENT
END:VCALENDAR