BEGIN:VCALENDAR
VERSION:2.0
PRODID:concerti//https://www.concerti.de
CALSCALE:GREGORIAN
BEGIN:VTIMEZONE
TZID:Europe/Berlin
X-LIC-LOCATION:Europe/Berlin
BEGIN:DAYLIGHT
TZOFFSETFROM:+0100
TZOFFSETTO:+0200
TZNAME:CEST
DTSTART:19700329T020000
RRULE:FREQ=YEARLY;BYMONTH=3;BYDAY=-1SU
END:DAYLIGHT
BEGIN:STANDARD
TZOFFSETFROM:+0200
TZOFFSETTO:+0100
TZNAME:CET
DTSTART:19701025T030000
RRULE:FREQ=YEARLY;BYMONTH=10;BYDAY=-1SU
END:STANDARD
END:VTIMEZONE
BEGIN:VEVENT
UID:50532f66a0c08c8b73a6b84396db3d52
SUMMARY:Concerto Scirocco - Murten Classics
URL:https://www.concerti.de/termine/concerto-scirocco-835594/
DTSTART;TZID=Europe/Berlin:20260830T170000
DTEND;TZID=Europe/Berlin:20260830T190000
DESCRIPTION:Interpreten: Concerto Scirocco \nProgramm: Werke von Senfl\, Torre\, Falconieri\, Selma\, Pierluigi\, Susato & Desprez \nhttps://www.concerti.de/termine/concerto-scirocco-835594/
LOCATION:Französische Kirche Murten\, Murten
END:VEVENT
END:VCALENDAR