BEGIN:VCALENDAR
VERSION:2.0
PRODID:concerti//https://www.concerti.de
CALSCALE:GREGORIAN
BEGIN:VTIMEZONE
TZID:Europe/Berlin
X-LIC-LOCATION:Europe/Berlin
BEGIN:DAYLIGHT
TZOFFSETFROM:+0100
TZOFFSETTO:+0200
TZNAME:CEST
DTSTART:19700329T020000
RRULE:FREQ=YEARLY;BYMONTH=3;BYDAY=-1SU
END:DAYLIGHT
BEGIN:STANDARD
TZOFFSETFROM:+0200
TZOFFSETTO:+0100
TZNAME:CET
DTSTART:19701025T030000
RRULE:FREQ=YEARLY;BYMONTH=10;BYDAY=-1SU
END:STANDARD
END:VTIMEZONE
BEGIN:VEVENT
UID:499c78311c41d4492496922bebab3ab2
SUMMARY:Comedy meets Classics – Celebration - Murten Classics
URL:https://www.concerti.de/termine/comedy-meets-classics-celebration-835571/
DTSTART;TZID=Europe/Berlin:20260826T200000
DTEND;TZID=Europe/Berlin:20260826T220000
DESCRIPTION:Interpreten: Ass-Dur \nhttps://www.concerti.de/termine/comedy-meets-classics-celebration-835571/
LOCATION:Schloss Murten\, Schlosshof\, Murten
END:VEVENT
END:VCALENDAR