BEGIN:VCALENDAR
VERSION:2.0
PRODID:concerti//https://www.concerti.de
CALSCALE:GREGORIAN
BEGIN:VTIMEZONE
TZID:Europe/Berlin
X-LIC-LOCATION:Europe/Berlin
BEGIN:DAYLIGHT
TZOFFSETFROM:+0100
TZOFFSETTO:+0200
TZNAME:CEST
DTSTART:19700329T020000
RRULE:FREQ=YEARLY;BYMONTH=3;BYDAY=-1SU
END:DAYLIGHT
BEGIN:STANDARD
TZOFFSETFROM:+0200
TZOFFSETTO:+0100
TZNAME:CET
DTSTART:19701025T030000
RRULE:FREQ=YEARLY;BYMONTH=10;BYDAY=-1SU
END:STANDARD
END:VTIMEZONE
BEGIN:VEVENT
UID:f9575abced0850a33793b617e7bb45f5
SUMMARY:Familienkonzert - Murten Classics
URL:https://www.concerti.de/termine/familienkonzert-835560/
DTSTART;TZID=Europe/Berlin:20260823T110000
DTEND;TZID=Europe/Berlin:20260823T130000
DESCRIPTION:Interpreten: La Banda Storica \nProgramm: Werke von Schubert\, Christen u. a. \nhttps://www.concerti.de/termine/familienkonzert-835560/
LOCATION:Französische Kirche\, Murten
END:VEVENT
END:VCALENDAR