BEGIN:VCALENDAR
VERSION:2.0
PRODID:concerti//https://www.concerti.de
CALSCALE:GREGORIAN
BEGIN:VTIMEZONE
TZID:Europe/Berlin
X-LIC-LOCATION:Europe/Berlin
BEGIN:DAYLIGHT
TZOFFSETFROM:+0100
TZOFFSETTO:+0200
TZNAME:CEST
DTSTART:19700329T020000
RRULE:FREQ=YEARLY;BYMONTH=3;BYDAY=-1SU
END:DAYLIGHT
BEGIN:STANDARD
TZOFFSETFROM:+0200
TZOFFSETTO:+0100
TZNAME:CET
DTSTART:19701025T030000
RRULE:FREQ=YEARLY;BYMONTH=10;BYDAY=-1SU
END:STANDARD
END:VTIMEZONE
BEGIN:VEVENT
UID:e6bc33c1628fd8741ce760d98abef142
SUMMARY:Marie Hendel (Violine), Sinfonieorchester St. Gallen, Christoph-Mathias Mueller (Leitung) - Murten Classics
URL:https://www.concerti.de/termine/marie-hendel-violine-sinfonieorchester-st-gallen-christoph-mathias-mueller-leitung-835537/
DTSTART;TZID=Europe/Berlin:20260820T200000
DTEND;TZID=Europe/Berlin:20260820T220000
DESCRIPTION:Interpreten: Marie Hendel (Violine)\, Sinfonieorchester St. Gallen\, Christoph-Mathias Mueller (Leitung) \nProgramm: Werke von Honegger\, Liebermann\, Nussio\, Fischer & Saint-Saëns \nhttps://www.concerti.de/termine/marie-hendel-violine-sinfonieorchester-st-gallen-christoph-mathias-mueller-leitung-835537/
LOCATION:Schloss Murten\, Schlosshof\, Murten
END:VEVENT
END:VCALENDAR