BEGIN:VCALENDAR
VERSION:2.0
PRODID:concerti//https://www.concerti.de
CALSCALE:GREGORIAN
BEGIN:VTIMEZONE
TZID:Europe/Berlin
X-LIC-LOCATION:Europe/Berlin
BEGIN:DAYLIGHT
TZOFFSETFROM:+0100
TZOFFSETTO:+0200
TZNAME:CEST
DTSTART:19700329T020000
RRULE:FREQ=YEARLY;BYMONTH=3;BYDAY=-1SU
END:DAYLIGHT
BEGIN:STANDARD
TZOFFSETFROM:+0200
TZOFFSETTO:+0100
TZNAME:CET
DTSTART:19701025T030000
RRULE:FREQ=YEARLY;BYMONTH=10;BYDAY=-1SU
END:STANDARD
END:VTIMEZONE
BEGIN:VEVENT
UID:bb9d417057ce520e5a4a8f7982ae2e96
SUMMARY:Tinons March Trio - Murten Classics
URL:https://www.concerti.de/termine/tinons-march-trio-835531/
DTSTART;TZID=Europe/Berlin:20260818T210000
DTEND;TZID=Europe/Berlin:20260818T230000
DESCRIPTION:Interpreten: Tinons March Trio \nProgramm: Werke von Ahbez\, Domínguez\, March\, Bricusse\, Newley\, Caymmi\, Mitchel\, Gershwin\, Heyward\, Igarzábal u. a. \nhttps://www.concerti.de/termine/tinons-march-trio-835531/
LOCATION:Schloss Münchenwiler\, Schlosshof\, Münchenwiler
END:VEVENT
END:VCALENDAR