BEGIN:VCALENDAR
VERSION:2.0
PRODID:concerti//https://www.concerti.de
CALSCALE:GREGORIAN
BEGIN:VTIMEZONE
TZID:Europe/Berlin
X-LIC-LOCATION:Europe/Berlin
BEGIN:DAYLIGHT
TZOFFSETFROM:+0100
TZOFFSETTO:+0200
TZNAME:CEST
DTSTART:19700329T020000
RRULE:FREQ=YEARLY;BYMONTH=3;BYDAY=-1SU
END:DAYLIGHT
BEGIN:STANDARD
TZOFFSETFROM:+0200
TZOFFSETTO:+0100
TZNAME:CET
DTSTART:19701025T030000
RRULE:FREQ=YEARLY;BYMONTH=10;BYDAY=-1SU
END:STANDARD
END:VTIMEZONE
BEGIN:VEVENT
UID:5155dcb96ac4959a97707772d4962dd5
SUMMARY:Lisa Rieder (Violine) - Murten Classics
URL:https://www.concerti.de/termine/lisa-rieder-violine-835518/
DTSTART;TZID=Europe/Berlin:20260816T170000
DTEND;TZID=Europe/Berlin:20260816T190000
DESCRIPTION:Interpreten: Lisa Rieder (Violine) \nProgramm: Werke von J. S. Bach & Piazzolla \nhttps://www.concerti.de/termine/lisa-rieder-violine-835518/
LOCATION:Französische Kirche\, Murten
END:VEVENT
END:VCALENDAR