BEGIN:VCALENDAR
VERSION:2.0
PRODID:concerti//https://www.concerti.de
CALSCALE:GREGORIAN
BEGIN:VTIMEZONE
TZID:Europe/Berlin
X-LIC-LOCATION:Europe/Berlin
BEGIN:DAYLIGHT
TZOFFSETFROM:+0100
TZOFFSETTO:+0200
TZNAME:CEST
DTSTART:19700329T020000
RRULE:FREQ=YEARLY;BYMONTH=3;BYDAY=-1SU
END:DAYLIGHT
BEGIN:STANDARD
TZOFFSETFROM:+0200
TZOFFSETTO:+0100
TZNAME:CET
DTSTART:19701025T030000
RRULE:FREQ=YEARLY;BYMONTH=10;BYDAY=-1SU
END:STANDARD
END:VTIMEZONE
BEGIN:VEVENT
UID:8dc512a20c79282bfa7e3dee9d15123a
SUMMARY:Andrew von Oeyen (Klavier), Prague Philharmonia, Emmanuel Villaume (Leitung) - Murten Classics
URL:https://www.concerti.de/termine/andrew-von-oeyen-klavier-prague-philharmonia-emmanuel-villaume-leitung-835511/
DTSTART;TZID=Europe/Berlin:20260815T200000
DTEND;TZID=Europe/Berlin:20260815T220000
DESCRIPTION:Interpreten: Andrew von Oeyen (Klavier)\, Prague Philharmonia\, Emmanuel Villaume (Leitung) \nProgramm: Werke von Suk\, Beethoven & Mendelssohn \nhttps://www.concerti.de/termine/andrew-von-oeyen-klavier-prague-philharmonia-emmanuel-villaume-leitung-835511/
LOCATION:Schloss Murten\, Schlosshof\, Murten
END:VEVENT
END:VCALENDAR