BEGIN:VCALENDAR
VERSION:2.0
PRODID:concerti//https://www.concerti.de
CALSCALE:GREGORIAN
BEGIN:VTIMEZONE
TZID:Europe/Berlin
X-LIC-LOCATION:Europe/Berlin
BEGIN:DAYLIGHT
TZOFFSETFROM:+0100
TZOFFSETTO:+0200
TZNAME:CEST
DTSTART:19700329T020000
RRULE:FREQ=YEARLY;BYMONTH=3;BYDAY=-1SU
END:DAYLIGHT
BEGIN:STANDARD
TZOFFSETFROM:+0200
TZOFFSETTO:+0100
TZNAME:CET
DTSTART:19701025T030000
RRULE:FREQ=YEARLY;BYMONTH=10;BYDAY=-1SU
END:STANDARD
END:VTIMEZONE
BEGIN:VEVENT
UID:9f8f7be6e18418cae1c80f7cdaa01cec
SUMMARY:Händel/Brezza: Rinaldo a cinque - Festival Muri Barock
URL:https://www.concerti.de/termine/haendel-brezza-rinaldo-a-cinque-834445/
DTSTART;TZID=Europe/Berlin:20260823T140000
DTEND;TZID=Europe/Berlin:20260823T160000
DESCRIPTION:Interpreten: Brezza \nhttps://www.concerti.de/termine/haendel-brezza-rinaldo-a-cinque-834445/
LOCATION:Kloster Muri\, Muri
END:VEVENT
END:VCALENDAR