BEGIN:VCALENDAR
VERSION:2.0
PRODID:concerti//https://www.concerti.de
CALSCALE:GREGORIAN
BEGIN:VTIMEZONE
TZID:Europe/Berlin
X-LIC-LOCATION:Europe/Berlin
BEGIN:DAYLIGHT
TZOFFSETFROM:+0100
TZOFFSETTO:+0200
TZNAME:CEST
DTSTART:19700329T020000
RRULE:FREQ=YEARLY;BYMONTH=3;BYDAY=-1SU
END:DAYLIGHT
BEGIN:STANDARD
TZOFFSETFROM:+0200
TZOFFSETTO:+0100
TZNAME:CET
DTSTART:19701025T030000
RRULE:FREQ=YEARLY;BYMONTH=10;BYDAY=-1SU
END:STANDARD
END:VTIMEZONE
BEGIN:VEVENT
UID:b0e59b9c876c9d1ad307ad59b91bd20e
SUMMARY:Dmytro Udovychenko (Violine), Roman Lopatynskyi (Klavier) - Ludwigsburger Schlossfestspiele
URL:https://www.concerti.de/termine/dmytro-udovychenko-violine-roman-lopatynskyi-klavier-833936/
DTSTART;TZID=Europe/Berlin:20260731T200000
DTEND;TZID=Europe/Berlin:20260731T220000
DESCRIPTION:Interpreten: Dmytro Udovychenko (Violine)\, Roman Lopatynskyi (Klavier) \nProgramm: Bartók: Violinsonate Nr. 1\, R. Strauss: Violinsonate Es-Dur op. 18\, Werke von Beethoven \nhttps://www.concerti.de/termine/dmytro-udovychenko-violine-roman-lopatynskyi-klavier-833936/
LOCATION:Seeschloss Monrepos\, Ludwigsburg
END:VEVENT
END:VCALENDAR