BEGIN:VCALENDAR
VERSION:2.0
PRODID:concerti//https://www.concerti.de
CALSCALE:GREGORIAN
BEGIN:VTIMEZONE
TZID:Europe/Berlin
X-LIC-LOCATION:Europe/Berlin
BEGIN:DAYLIGHT
TZOFFSETFROM:+0100
TZOFFSETTO:+0200
TZNAME:CEST
DTSTART:19700329T020000
RRULE:FREQ=YEARLY;BYMONTH=3;BYDAY=-1SU
END:DAYLIGHT
BEGIN:STANDARD
TZOFFSETFROM:+0200
TZOFFSETTO:+0100
TZNAME:CET
DTSTART:19701025T030000
RRULE:FREQ=YEARLY;BYMONTH=10;BYDAY=-1SU
END:STANDARD
END:VTIMEZONE
BEGIN:VEVENT
UID:7b505824930b5ac31c83775fd618cbd9
SUMMARY:Alexander von Heißen (Cembalo) - Ludwigsburger Schlossfestspiele
URL:https://www.concerti.de/termine/alexander-von-heissen-cembalo-833897/
DTSTART;TZID=Europe/Berlin:20260723T190000
DTEND;TZID=Europe/Berlin:20260723T210000
DESCRIPTION:Interpreten: Alexander von Heißen (Cembalo) \nProgramm: Anglebert: Prélude aus Suite g-Moll & Chaconne de Phaeton de Mr de Lully aus Suite G-Dur\, Byrd: Fantasia a-Moll\, J. S. Bach: Capriccio sopra la lontananza de il fratro dilettissimo BWV 992 & Chromatische Fantasie und Fuge BWV 903\, J. S. Bach/Heißen: Ciaccona BWV 1004\, Händel/Babell: Vo’ far guerra aus „Rinaldo“\, W. F. Bach: Fantasie e-Moll \nhttps://www.concerti.de/termine/alexander-von-heissen-cembalo-833897/
LOCATION:Schloss Favorite\, Ludwigsburg
END:VEVENT
END:VCALENDAR