BEGIN:VCALENDAR
VERSION:2.0
PRODID:concerti//https://www.concerti.de
CALSCALE:GREGORIAN
BEGIN:VTIMEZONE
TZID:Europe/Berlin
X-LIC-LOCATION:Europe/Berlin
BEGIN:DAYLIGHT
TZOFFSETFROM:+0100
TZOFFSETTO:+0200
TZNAME:CEST
DTSTART:19700329T020000
RRULE:FREQ=YEARLY;BYMONTH=3;BYDAY=-1SU
END:DAYLIGHT
BEGIN:STANDARD
TZOFFSETFROM:+0200
TZOFFSETTO:+0100
TZNAME:CET
DTSTART:19701025T030000
RRULE:FREQ=YEARLY;BYMONTH=10;BYDAY=-1SU
END:STANDARD
END:VTIMEZONE
BEGIN:VEVENT
UID:28240a3065edc72cca3f4a966fc8cbe3
SUMMARY:Monrepos Open Air - Ludwigsburger Schlossfestspiele
URL:https://www.concerti.de/termine/monrepos-open-air-ii-833891/
DTSTART;TZID=Europe/Berlin:20260718T210000
DTEND;TZID=Europe/Berlin:20260718T230000
DESCRIPTION:Interpreten: Kit Armstrong (Klavier)\, Le Concert Olympique\, Jan Caeyers (Leitung) \nProgramm: Beethoven: Klavierkonzert Nr. 3 c-Moll op. 37\, Klaviersonate Nr. 21 C-Dur op. 53 „Waldstein“ & Sinfonie Nr. 5 c-Moll op. 67 \nhttps://www.concerti.de/termine/monrepos-open-air-ii-833891/
LOCATION:Seeschloss Monrepos\, Ludwigsburg
END:VEVENT
END:VCALENDAR