BEGIN:VCALENDAR
VERSION:2.0
PRODID:concerti//https://www.concerti.de
CALSCALE:GREGORIAN
BEGIN:VTIMEZONE
TZID:Europe/Berlin
X-LIC-LOCATION:Europe/Berlin
BEGIN:DAYLIGHT
TZOFFSETFROM:+0100
TZOFFSETTO:+0200
TZNAME:CEST
DTSTART:19700329T020000
RRULE:FREQ=YEARLY;BYMONTH=3;BYDAY=-1SU
END:DAYLIGHT
BEGIN:STANDARD
TZOFFSETFROM:+0200
TZOFFSETTO:+0100
TZNAME:CET
DTSTART:19701025T030000
RRULE:FREQ=YEARLY;BYMONTH=10;BYDAY=-1SU
END:STANDARD
END:VTIMEZONE
BEGIN:VEVENT
UID:0faa07ac241852859625e23ad29fe9ed
SUMMARY:Monrepos Open Air - Ludwigsburger Schlossfestspiele
URL:https://www.concerti.de/termine/monrepos-open-air-i-833887/
DTSTART;TZID=Europe/Berlin:20260717T210000
DTEND;TZID=Europe/Berlin:20260717T230000
DESCRIPTION:Interpreten: Emmanuelle Bertrand (Violoncello)\, Württembergische Philharmonie Reutlingen\, Ariane Matiakh Musikalische (Leitung) \nProgramm: Debussy: Fêtes aus Trois Nocturnes\, Ravel: Alborada del gracioso aus Miroirs & Boléro\, Saint-Saëns: Cellokonzert Nr. 1 a-Moll op. 33\, Dukas: Der Zauberlehrling\, Saint-Saëns: Bacchanale aus „Samson et Dalila“\, Duparc: Aux étoiles \nhttps://www.concerti.de/termine/monrepos-open-air-i-833887/
LOCATION:Seeschloss Monrepos\, Ludwigsburg
END:VEVENT
END:VCALENDAR