BEGIN:VCALENDAR
VERSION:2.0
PRODID:concerti//https://www.concerti.de
CALSCALE:GREGORIAN
BEGIN:VTIMEZONE
TZID:Europe/Berlin
X-LIC-LOCATION:Europe/Berlin
BEGIN:DAYLIGHT
TZOFFSETFROM:+0100
TZOFFSETTO:+0200
TZNAME:CEST
DTSTART:19700329T020000
RRULE:FREQ=YEARLY;BYMONTH=3;BYDAY=-1SU
END:DAYLIGHT
BEGIN:STANDARD
TZOFFSETFROM:+0200
TZOFFSETTO:+0100
TZNAME:CET
DTSTART:19701025T030000
RRULE:FREQ=YEARLY;BYMONTH=10;BYDAY=-1SU
END:STANDARD
END:VTIMEZONE
BEGIN:VEVENT
UID:c9a359ab8d8c009bbbf6c31a2f840771
SUMMARY:Weber/Krauß: Der Freischütz - Ludwigsburger Schlossfestspiele
URL:https://www.concerti.de/termine/weber-krauss-der-freischuetz-833884/
DTSTART;TZID=Europe/Berlin:20260717T200000
DTEND;TZID=Europe/Berlin:20260717T220000
DESCRIPTION:Interpreten: Akademie Darstellende Kunst Baden-Württemberg\, Max Porstmann (Regie) \nhttps://www.concerti.de/termine/weber-krauss-der-freischuetz-833884/
LOCATION:Akademie für Darstellende Kunst\, Ludwigsburg
END:VEVENT
END:VCALENDAR