BEGIN:VCALENDAR
VERSION:2.0
PRODID:concerti//https://www.concerti.de
CALSCALE:GREGORIAN
BEGIN:VTIMEZONE
TZID:Europe/Berlin
X-LIC-LOCATION:Europe/Berlin
BEGIN:DAYLIGHT
TZOFFSETFROM:+0100
TZOFFSETTO:+0200
TZNAME:CEST
DTSTART:19700329T020000
RRULE:FREQ=YEARLY;BYMONTH=3;BYDAY=-1SU
END:DAYLIGHT
BEGIN:STANDARD
TZOFFSETFROM:+0200
TZOFFSETTO:+0100
TZNAME:CET
DTSTART:19701025T030000
RRULE:FREQ=YEARLY;BYMONTH=10;BYDAY=-1SU
END:STANDARD
END:VTIMEZONE
BEGIN:VEVENT
UID:44ba85f68b35887e17feccfc614f03ac
SUMMARY:Anastasia Kobekina (Violoncello), Kammerorchester Basel, Daniel Bard (Violine &#038; Leitung) - Ludwigsburger Schlossfestspiele
URL:https://www.concerti.de/termine/anastasia-kobekina-violoncello-kammerorchester-basel-daniel-bard-violine-leitung-forum-am-schlosspark-833326/
DTSTART;TZID=Europe/Berlin:20260628T180000
DTEND;TZID=Europe/Berlin:20260628T200000
DESCRIPTION:Interpreten: Anastasia Kobekina (Violoncello)\, Kammerorchester Basel\, Daniel Bard (Violine & Leitung) \nProgramm: Puccini/Arter: Drei Menuette\, Tschaikowsky: Rokoko-Variationen A-Dur op. 33\, Brahms/Kobekin: Ungarische Tänze (Auswahl)\, Brahms: Serenade Nr. 2 A-Dur op. 16 \nhttps://www.concerti.de/termine/anastasia-kobekina-violoncello-kammerorchester-basel-daniel-bard-violine-leitung-forum-am-schlosspark-833326/
LOCATION:Forum am Schlosspark\, Stuttgarter Straße 33\, 71638 Ludwigsburg
END:VEVENT
END:VCALENDAR