BEGIN:VCALENDAR
VERSION:2.0
PRODID:concerti//https://www.concerti.de
CALSCALE:GREGORIAN
BEGIN:VTIMEZONE
TZID:Europe/Berlin
X-LIC-LOCATION:Europe/Berlin
BEGIN:DAYLIGHT
TZOFFSETFROM:+0100
TZOFFSETTO:+0200
TZNAME:CEST
DTSTART:19700329T020000
RRULE:FREQ=YEARLY;BYMONTH=3;BYDAY=-1SU
END:DAYLIGHT
BEGIN:STANDARD
TZOFFSETFROM:+0200
TZOFFSETTO:+0100
TZNAME:CET
DTSTART:19701025T030000
RRULE:FREQ=YEARLY;BYMONTH=10;BYDAY=-1SU
END:STANDARD
END:VTIMEZONE
BEGIN:VEVENT
UID:98d118ecdd0777e19c6d3d90f8b18ed5
SUMMARY:LGT Young Soloists, Orchester des Goethe-Gymnasiums, Benedikt Vennefrohne (Leitung), Alexander Gilman (Leitung) - Ludwigsburger Schlossfestspiele
URL:https://www.concerti.de/termine/lgt-young-soloists-orchester-des-goethe-gymnasiums-benedikt-vennefrohne-leitung-alexander-gilman-leitung-833314/
DTSTART;TZID=Europe/Berlin:20260623T190000
DTEND;TZID=Europe/Berlin:20260623T210000
DESCRIPTION:Interpreten: LGT Young Soloists\, Orchester des Goethe-Gymnasiums\, Benedikt Vennefrohne (Leitung)\, Alexander Gilman (Leitung) \nProgramm: Elgar: Serenade op. 20\, Jenkins: Palladio \nhttps://www.concerti.de/termine/lgt-young-soloists-orchester-des-goethe-gymnasiums-benedikt-vennefrohne-leitung-alexander-gilman-leitung-833314/
LOCATION:Goethe-Gymnasium\, Ludwigsburg
END:VEVENT
END:VCALENDAR