BEGIN:VCALENDAR
VERSION:2.0
PRODID:concerti//https://www.concerti.de
CALSCALE:GREGORIAN
BEGIN:VTIMEZONE
TZID:Europe/Berlin
X-LIC-LOCATION:Europe/Berlin
BEGIN:DAYLIGHT
TZOFFSETFROM:+0100
TZOFFSETTO:+0200
TZNAME:CEST
DTSTART:19700329T020000
RRULE:FREQ=YEARLY;BYMONTH=3;BYDAY=-1SU
END:DAYLIGHT
BEGIN:STANDARD
TZOFFSETFROM:+0200
TZOFFSETTO:+0100
TZNAME:CET
DTSTART:19701025T030000
RRULE:FREQ=YEARLY;BYMONTH=10;BYDAY=-1SU
END:STANDARD
END:VTIMEZONE
BEGIN:VEVENT
UID:8a5b85f5b2b04a66d8bcc68572d85460
SUMMARY:Afanador - Ludwigsburger Schlossfestspiele
URL:https://www.concerti.de/termine/afanador-forum-am-schlosspark-833295/
DTSTART;TZID=Europe/Berlin:20260620T190000
DTEND;TZID=Europe/Berlin:20260620T210000
DESCRIPTION:Interpreten: Ballet Nacional de España\, Marcos Morau & La Vernal (Choreografie)\, Lorena Nogal (Choreografie)\, Shay Partush (Choreografie)\, Jon López (Choreografie)\, Miguel Ángel Corbacho (Choreografie) \nhttps://www.concerti.de/termine/afanador-forum-am-schlosspark-833295/
LOCATION:Forum am Schlosspark\, Stuttgarter Straße 33\, 71638 Ludwigsburg
END:VEVENT
END:VCALENDAR