BEGIN:VCALENDAR
VERSION:2.0
PRODID:concerti//https://www.concerti.de
CALSCALE:GREGORIAN
BEGIN:VTIMEZONE
TZID:Europe/Berlin
X-LIC-LOCATION:Europe/Berlin
BEGIN:DAYLIGHT
TZOFFSETFROM:+0100
TZOFFSETTO:+0200
TZNAME:CEST
DTSTART:19700329T020000
RRULE:FREQ=YEARLY;BYMONTH=3;BYDAY=-1SU
END:DAYLIGHT
BEGIN:STANDARD
TZOFFSETFROM:+0200
TZOFFSETTO:+0100
TZNAME:CET
DTSTART:19701025T030000
RRULE:FREQ=YEARLY;BYMONTH=10;BYDAY=-1SU
END:STANDARD
END:VTIMEZONE
BEGIN:VEVENT
UID:3de7692fcdf5226ff21da97db648f151
SUMMARY:Laura Galstyan (Klavier)
URL:https://www.concerti.de/termine/laura-galstyan-klavier-819017/
DTSTART;TZID=Europe/Berlin:20260703T190000
DTEND;TZID=Europe/Berlin:20260703T210000
DESCRIPTION:Interpreten: Laura Galstyan (Klavier) \nProgramm: Galuppi: Klaviersonate Nr. 5 C-Dur\, Rachmaninow: Variationen über ein Thema von Corelli op. 42\, Chopin: Vier Mazurken op. 33 u. a. \nhttps://www.concerti.de/termine/laura-galstyan-klavier-819017/
LOCATION:Werratal Kultur- und Kongresszentrum\, Bad Sooden-Allendorf
END:VEVENT
END:VCALENDAR