BEGIN:VCALENDAR
VERSION:2.0
PRODID:concerti//https://www.concerti.de
CALSCALE:GREGORIAN
BEGIN:VTIMEZONE
TZID:Europe/Berlin
X-LIC-LOCATION:Europe/Berlin
BEGIN:DAYLIGHT
TZOFFSETFROM:+0100
TZOFFSETTO:+0200
TZNAME:CEST
DTSTART:19700329T020000
RRULE:FREQ=YEARLY;BYMONTH=3;BYDAY=-1SU
END:DAYLIGHT
BEGIN:STANDARD
TZOFFSETFROM:+0200
TZOFFSETTO:+0100
TZNAME:CET
DTSTART:19701025T030000
RRULE:FREQ=YEARLY;BYMONTH=10;BYDAY=-1SU
END:STANDARD
END:VTIMEZONE
BEGIN:VEVENT
UID:b51171817407e2a508c59c0e9d6041ce
SUMMARY:Rossini: La Cenerentola
URL:https://www.concerti.de/termine/rossini-la-cenerentola-theater-heidelberg-239298/
DTSTART;TZID=Europe/Berlin:20260426T180000
DTEND;TZID=Europe/Berlin:20260426T200000
DESCRIPTION:Interpreten: João Terleira (Don Ramiro)\, Ipča Ramanović (Dandini)\, Stefan Stoll (Don Magnifico)\, Theresa Immerz (Clorinda)\, Elisabeth Wrede (Tisbe)\, Junyoung Kim (Leitung)\, Holger Schultze (Regie) \nhttps://www.concerti.de/termine/rossini-la-cenerentola-theater-heidelberg-239298/
LOCATION:Theater Heilbronn\, Berliner Platz 1\, 74072 Heilbronn
END:VEVENT
END:VCALENDAR