BEGIN:VCALENDAR
VERSION:2.0
PRODID:concerti//https://www.concerti.de
CALSCALE:GREGORIAN
BEGIN:VTIMEZONE
TZID:Europe/Berlin
X-LIC-LOCATION:Europe/Berlin
BEGIN:DAYLIGHT
TZOFFSETFROM:+0100
TZOFFSETTO:+0200
TZNAME:CEST
DTSTART:19700329T020000
RRULE:FREQ=YEARLY;BYMONTH=3;BYDAY=-1SU
END:DAYLIGHT
BEGIN:STANDARD
TZOFFSETFROM:+0200
TZOFFSETTO:+0100
TZNAME:CET
DTSTART:19701025T030000
RRULE:FREQ=YEARLY;BYMONTH=10;BYDAY=-1SU
END:STANDARD
END:VTIMEZONE
BEGIN:VEVENT
UID:13a8c5f29126b42f87714fa8d002b798
SUMMARY:Bomsori Kim (Violine), Tonhalle-Orchester Zürich, Paavo Järvi (Leitung) - Beethovenfest Bonn
URL:https://www.concerti.de/termine/bomsori-kim-violine-tonhalle-orchester-zuerich-paavo-jaervi-leitung-beethovenhalle-bonn-822855/
DTSTART;TZID=Europe/Berlin:20260910T193000
DTEND;TZID=Europe/Berlin:20260910T213000
DESCRIPTION:Interpreten: Bomsori Kim (Violine)\, Tonhalle-Orchester Zürich\, Paavo Järvi (Leitung) \nProgramm: Schönberg: Verklärte Nacht d-Moll op. 4\, Korngold: Violinkonzert D-Dur op. 35\, Beethoven: Sinfonie Nr. 7 A-Dur op. 92 \nhttps://www.concerti.de/termine/bomsori-kim-violine-tonhalle-orchester-zuerich-paavo-jaervi-leitung-beethovenhalle-bonn-822855/
LOCATION:Beethovenhalle Bonn\, Wachsbleich 16\, 53111 Bonn
END:VEVENT
END:VCALENDAR