BEGIN:VCALENDAR
VERSION:2.0
PRODID:concerti//https://www.concerti.de
CALSCALE:GREGORIAN
BEGIN:VTIMEZONE
TZID:Europe/Berlin
X-LIC-LOCATION:Europe/Berlin
BEGIN:DAYLIGHT
TZOFFSETFROM:+0100
TZOFFSETTO:+0200
TZNAME:CEST
DTSTART:19700329T020000
RRULE:FREQ=YEARLY;BYMONTH=3;BYDAY=-1SU
END:DAYLIGHT
BEGIN:STANDARD
TZOFFSETFROM:+0200
TZOFFSETTO:+0100
TZNAME:CET
DTSTART:19701025T030000
RRULE:FREQ=YEARLY;BYMONTH=10;BYDAY=-1SU
END:STANDARD
END:VTIMEZONE
BEGIN:VEVENT
UID:5d45e2df0072cefe9e79bb5cfeb3df5e
SUMMARY:Vilde Frang (Violine), London Symphony Orchestra, Antonio Pappano (Leitung) - Beethovenfest Bonn
URL:https://www.concerti.de/termine/vilde-frang-violine-london-symphony-orchestra-antonio-pappano-leitung-beethovenhalle-bonn-822852/
DTSTART;TZID=Europe/Berlin:20260905T193000
DTEND;TZID=Europe/Berlin:20260905T213000
DESCRIPTION:Interpreten: Vilde Frang (Violine)\, London Symphony Orchestra\, Antonio Pappano (Leitung) \nProgramm: Beethoven: Violinkonzert D-Dur op. 61\, Tschaikowsky: Sinfonie Nr. 5 e-Moll op. 64 \nhttps://www.concerti.de/termine/vilde-frang-violine-london-symphony-orchestra-antonio-pappano-leitung-beethovenhalle-bonn-822852/
LOCATION:Beethovenhalle Bonn\, Wachsbleich 16\, 53111 Bonn
END:VEVENT
END:VCALENDAR