BEGIN:VCALENDAR
VERSION:2.0
PRODID:concerti//https://www.concerti.de
CALSCALE:GREGORIAN
BEGIN:VTIMEZONE
TZID:Europe/Berlin
X-LIC-LOCATION:Europe/Berlin
BEGIN:DAYLIGHT
TZOFFSETFROM:+0100
TZOFFSETTO:+0200
TZNAME:CEST
DTSTART:19700329T020000
RRULE:FREQ=YEARLY;BYMONTH=3;BYDAY=-1SU
END:DAYLIGHT
BEGIN:STANDARD
TZOFFSETFROM:+0200
TZOFFSETTO:+0100
TZNAME:CET
DTSTART:19701025T030000
RRULE:FREQ=YEARLY;BYMONTH=10;BYDAY=-1SU
END:STANDARD
END:VTIMEZONE
BEGIN:VEVENT
UID:2983fea3e76e8a1c1cdab3ddd35bbcd2
SUMMARY:Ilya Gringolts (Violine), Staatsorchester Rheinische Philharmonie, Anu Tali (Leitung)
URL:https://www.concerti.de/termine/ilya-gringolts-violine-staatsorchester-rheinische-philharmonie-anu-tali-leitung-rhein-mosel-halle-koblenz-822518/
DTSTART;TZID=Europe/Berlin:20260424T200000
DTEND;TZID=Europe/Berlin:20260424T220000
DESCRIPTION:Interpreten: Ilya Gringolts (Violine)\, Staatsorchester Rheinische Philharmonie\, Anu Tali (Leitung) \nProgramm: Dvořák: Scherzo capriccioso op. 66\, Adès: Violinkonzert „Concentric Paths“\, Mahler: Sinfonie Nr. 1 D-Dur \nhttps://www.concerti.de/termine/ilya-gringolts-violine-staatsorchester-rheinische-philharmonie-anu-tali-leitung-rhein-mosel-halle-koblenz-822518/
LOCATION:Rhein-Mosel-Halle Koblenz\, Julius-Wegeler-Straße 4\, 56068 Koblenz
END:VEVENT
END:VCALENDAR