BEGIN:VCALENDAR
VERSION:2.0
PRODID:concerti//https://www.concerti.de
CALSCALE:GREGORIAN
BEGIN:VTIMEZONE
TZID:Europe/Berlin
X-LIC-LOCATION:Europe/Berlin
BEGIN:DAYLIGHT
TZOFFSETFROM:+0100
TZOFFSETTO:+0200
TZNAME:CEST
DTSTART:19700329T020000
RRULE:FREQ=YEARLY;BYMONTH=3;BYDAY=-1SU
END:DAYLIGHT
BEGIN:STANDARD
TZOFFSETFROM:+0200
TZOFFSETTO:+0100
TZNAME:CET
DTSTART:19701025T030000
RRULE:FREQ=YEARLY;BYMONTH=10;BYDAY=-1SU
END:STANDARD
END:VTIMEZONE
BEGIN:VEVENT
UID:7732eddbd9a487b99bb75245c718bfb8
SUMMARY:Mozart: Così fan tutte
URL:https://www.concerti.de/termine/mozart-cosi-fan-tutte-schloss-schwetzingen-822485/
DTSTART;TZID=Europe/Berlin:20260711T180000
DTEND;TZID=Europe/Berlin:20260711T200000
DESCRIPTION:Interpreten: Seunghee Kho (Fiordiligi)\, Ruth Häde (Dorabella)\, Yaara Attias (Despina)\, Rafael Helbig-Kostka (Ferrando)\, Ilya Lapich (Guglielmo)\, Bartosz Urbanowicz (Don Alfonso)\, Anton Legkii (Leitung)\, Tatjana Gürbaca (Regie) \nhttps://www.concerti.de/termine/mozart-cosi-fan-tutte-schloss-schwetzingen-822485/
LOCATION:Schloss Schwetzingen\, Schloß\, 68723 Schwetzingen
END:VEVENT
END:VCALENDAR