BEGIN:VCALENDAR
VERSION:2.0
PRODID:concerti//https://www.concerti.de
CALSCALE:GREGORIAN
BEGIN:VTIMEZONE
TZID:Europe/Berlin
X-LIC-LOCATION:Europe/Berlin
BEGIN:DAYLIGHT
TZOFFSETFROM:+0100
TZOFFSETTO:+0200
TZNAME:CEST
DTSTART:19700329T020000
RRULE:FREQ=YEARLY;BYMONTH=3;BYDAY=-1SU
END:DAYLIGHT
BEGIN:STANDARD
TZOFFSETFROM:+0200
TZOFFSETTO:+0100
TZNAME:CET
DTSTART:19701025T030000
RRULE:FREQ=YEARLY;BYMONTH=10;BYDAY=-1SU
END:STANDARD
END:VTIMEZONE
BEGIN:VEVENT
UID:117a5d70f3cf08527c2c17880ace3e76
SUMMARY:Händel: The Messiah HWV 56
URL:https://www.concerti.de/termine/haendel-the-messiah-hwv-56-822247/
DTSTART;TZID=Europe/Berlin:20261212T193000
DTEND;TZID=Europe/Berlin:20261212T213000
DESCRIPTION:Interpreten: Chorus Sine Nomine\, Company of Music\, Concerto Stella Matutina\, Johannes Hiemetsberger (Leitung) \nhttps://www.concerti.de/termine/haendel-the-messiah-hwv-56-822247/
LOCATION:Kulturbühne Ambach\, Götzis
END:VEVENT
END:VCALENDAR