BEGIN:VCALENDAR
VERSION:2.0
PRODID:concerti//https://www.concerti.de
CALSCALE:GREGORIAN
BEGIN:VTIMEZONE
TZID:Europe/Berlin
X-LIC-LOCATION:Europe/Berlin
BEGIN:DAYLIGHT
TZOFFSETFROM:+0100
TZOFFSETTO:+0200
TZNAME:CEST
DTSTART:19700329T020000
RRULE:FREQ=YEARLY;BYMONTH=3;BYDAY=-1SU
END:DAYLIGHT
BEGIN:STANDARD
TZOFFSETFROM:+0200
TZOFFSETTO:+0100
TZNAME:CET
DTSTART:19701025T030000
RRULE:FREQ=YEARLY;BYMONTH=10;BYDAY=-1SU
END:STANDARD
END:VTIMEZONE
BEGIN:VEVENT
UID:52a24dbd5e71ccc21952e2d1bdc19cb2
SUMMARY:Musik von Tod und Aufbruch - Kirch'Klang Festival
URL:https://www.concerti.de/termine/musik-von-tod-und-aufbruch-822206/
DTSTART;TZID=Europe/Berlin:20260724T193000
DTEND;TZID=Europe/Berlin:20260724T213000
DESCRIPTION:Interpreten: Tomasz Konieczny (Bariton)\, Zita Nauratyill (Orgel) \nProgramm: Wagner/Lemare: Ouvertüre zu „Die Meistersinger von Nürnberg“\, Mussorgski: Lieder und Tänze des Todes\, Liszt/Rogg: Der heilige Franziskus von Paola auf den Wellen schreitend\, Liszt: Cantico di San Francesco\, Reger: Halleluja! Gott zu loben\, bleibe meiner Seele Freud op. 52/3 \nhttps://www.concerti.de/termine/musik-von-tod-und-aufbruch-822206/
LOCATION:Stadtpfarrkirche St. Nikolaus\, Bad Ischl
END:VEVENT
END:VCALENDAR