BEGIN:VCALENDAR
VERSION:2.0
PRODID:concerti//https://www.concerti.de
CALSCALE:GREGORIAN
BEGIN:VTIMEZONE
TZID:Europe/Berlin
X-LIC-LOCATION:Europe/Berlin
BEGIN:DAYLIGHT
TZOFFSETFROM:+0100
TZOFFSETTO:+0200
TZNAME:CEST
DTSTART:19700329T020000
RRULE:FREQ=YEARLY;BYMONTH=3;BYDAY=-1SU
END:DAYLIGHT
BEGIN:STANDARD
TZOFFSETFROM:+0200
TZOFFSETTO:+0100
TZNAME:CET
DTSTART:19701025T030000
RRULE:FREQ=YEARLY;BYMONTH=10;BYDAY=-1SU
END:STANDARD
END:VTIMEZONE
BEGIN:VEVENT
UID:5ac8105d8c37f09dc020166ed289f0e0
SUMMARY:Orgelklang zwischen Himmel und Erde - Kirch'Klang Festival
URL:https://www.concerti.de/termine/orgelklang-zwischen-himmel-und-erde-822200/
DTSTART;TZID=Europe/Berlin:20260716T193000
DTEND;TZID=Europe/Berlin:20260716T213000
DESCRIPTION:Interpreten: Christian Schmitt (Orgel) \nProgramm: Mendelssohn: Orgelsonate D-Dur op. 65/5\, Reubke: Sonate c-Moll über den 94. Psalm\, Messiaen: Méditations sur le Mystère de la Sainte Trinité – „Dieu est simple“\, Reger: Wie schön leucht\' uns der Morgenstern Es-Dur op. 40/1 \nhttps://www.concerti.de/termine/orgelklang-zwischen-himmel-und-erde-822200/
LOCATION:Stadtpfarrkirche St. Nikolaus\, Bad Ischl
END:VEVENT
END:VCALENDAR