BEGIN:VCALENDAR
VERSION:2.0
PRODID:concerti//https://www.concerti.de
CALSCALE:GREGORIAN
BEGIN:VTIMEZONE
TZID:Europe/Berlin
X-LIC-LOCATION:Europe/Berlin
BEGIN:DAYLIGHT
TZOFFSETFROM:+0100
TZOFFSETTO:+0200
TZNAME:CEST
DTSTART:19700329T020000
RRULE:FREQ=YEARLY;BYMONTH=3;BYDAY=-1SU
END:DAYLIGHT
BEGIN:STANDARD
TZOFFSETFROM:+0200
TZOFFSETTO:+0100
TZNAME:CET
DTSTART:19701025T030000
RRULE:FREQ=YEARLY;BYMONTH=10;BYDAY=-1SU
END:STANDARD
END:VTIMEZONE
BEGIN:VEVENT
UID:9f1d6cacac31a876b034c4bba47d6d86
SUMMARY:Rossini: Il viaggio a Reims - Salzburger Pfingstfestspiele
URL:https://www.concerti.de/termine/rossini-il-viaggio-a-reims-haus-fuer-mozart-salzburg-822167/
DTSTART;TZID=Europe/Berlin:20260525T170000
DTEND;TZID=Europe/Berlin:20260525T190000
DESCRIPTION:Interpreten: Cecilia Bartoli Corinna)\, Marina Viotti (Marchesa Melibea)\, Mélissa Petit (Contessa di Folleville)\, Tara Erraught (Madama Cortese)\, Edgardo Rocha (Cavalier Belfiore)\, Dmitry Korchak (Conte di Libenskof)\, Ildebrando D’Arcangelo (Lord Sidney)\, Florian Sempey (Don Profondo)\, Chœur de l’Opéra de Monte-Carlo\, Les Musiciens du Prince - Monaco\, Gianluca Capuano (Leitung)\, Barrie Kosky (Regie) \nhttps://www.concerti.de/termine/rossini-il-viaggio-a-reims-haus-fuer-mozart-salzburg-822167/
LOCATION:Haus für Mozart Salzburg\, Hofstallgasse 1\, 5020 Salzburg
END:VEVENT
END:VCALENDAR