BEGIN:VCALENDAR
VERSION:2.0
PRODID:concerti//https://www.concerti.de
CALSCALE:GREGORIAN
BEGIN:VTIMEZONE
TZID:Europe/Berlin
X-LIC-LOCATION:Europe/Berlin
BEGIN:DAYLIGHT
TZOFFSETFROM:+0100
TZOFFSETTO:+0200
TZNAME:CEST
DTSTART:19700329T020000
RRULE:FREQ=YEARLY;BYMONTH=3;BYDAY=-1SU
END:DAYLIGHT
BEGIN:STANDARD
TZOFFSETFROM:+0200
TZOFFSETTO:+0100
TZNAME:CET
DTSTART:19701025T030000
RRULE:FREQ=YEARLY;BYMONTH=10;BYDAY=-1SU
END:STANDARD
END:VTIMEZONE
BEGIN:VEVENT
UID:4a4de97572f29268af11a0b5c159b1c1
SUMMARY:Auerbach: Die kleine Meerjungfrau - Salzburger Pfingstfestspiele
URL:https://www.concerti.de/termine/die-kleine-meerjungfrau-grosses-festspielhaus-822170/
DTSTART;TZID=Europe/Berlin:20260523T193000
DTEND;TZID=Europe/Berlin:20260523T213000
DESCRIPTION:Interpreten: Wiener Symphoniker\, Hamburg Ballett\, Simon Hewett (Leitung)\, John Neumeier (Choreografie) \nhttps://www.concerti.de/termine/die-kleine-meerjungfrau-grosses-festspielhaus-822170/
LOCATION:Großes Festspielhaus Salzburg\, Hofstallgasse 1\, 5020 Salzburg
END:VEVENT
END:VCALENDAR