BEGIN:VCALENDAR
VERSION:2.0
PRODID:concerti//https://www.concerti.de
CALSCALE:GREGORIAN
BEGIN:VTIMEZONE
TZID:Europe/Berlin
X-LIC-LOCATION:Europe/Berlin
BEGIN:DAYLIGHT
TZOFFSETFROM:+0100
TZOFFSETTO:+0200
TZNAME:CEST
DTSTART:19700329T020000
RRULE:FREQ=YEARLY;BYMONTH=3;BYDAY=-1SU
END:DAYLIGHT
BEGIN:STANDARD
TZOFFSETFROM:+0200
TZOFFSETTO:+0100
TZNAME:CET
DTSTART:19701025T030000
RRULE:FREQ=YEARLY;BYMONTH=10;BYDAY=-1SU
END:STANDARD
END:VTIMEZONE
BEGIN:VEVENT
UID:f80e1fb5846b4af0fd82c9bb4e355fde
SUMMARY:40 Jahre Kissinger Sommer - Kissinger Sommer: Jubiläumskonzert
URL:https://www.concerti.de/termine/40-jahre-kissinger-sommer-821732/
DTSTART;TZID=Europe/Berlin:20260712T200000
DTEND;TZID=Europe/Berlin:20260712T220000
DESCRIPTION:Interpreten: Nikola Hillebrand (Sopran)\, Sunnyboy Dladla (Tenor)\, John Brancy (Bariton)\, Chor des Bayerischen Rundfunks\, Laienchöre aus Bayern Chorgesang\, Symphonieorchester des Bayerischen Rundfunks\, Simon Rattle (Leitung) \nProgramm: Orff: Carmina Burana \nhttps://www.concerti.de/termine/40-jahre-kissinger-sommer-821732/
LOCATION:Turnierplatz\, Bad Kissingen
END:VEVENT
END:VCALENDAR