BEGIN:VCALENDAR
VERSION:2.0
PRODID:concerti//https://www.concerti.de
CALSCALE:GREGORIAN
BEGIN:VTIMEZONE
TZID:Europe/Berlin
X-LIC-LOCATION:Europe/Berlin
BEGIN:DAYLIGHT
TZOFFSETFROM:+0100
TZOFFSETTO:+0200
TZNAME:CEST
DTSTART:19700329T020000
RRULE:FREQ=YEARLY;BYMONTH=3;BYDAY=-1SU
END:DAYLIGHT
BEGIN:STANDARD
TZOFFSETFROM:+0200
TZOFFSETTO:+0100
TZNAME:CET
DTSTART:19701025T030000
RRULE:FREQ=YEARLY;BYMONTH=10;BYDAY=-1SU
END:STANDARD
END:VTIMEZONE
BEGIN:VEVENT
UID:20fd6524adf09ab6507d16eec3d485ac
SUMMARY:Fremder als der Mond - Kissinger Sommer
URL:https://www.concerti.de/termine/fremder-als-der-mond-821703/
DTSTART;TZID=Europe/Berlin:20260708T193000
DTEND;TZID=Europe/Berlin:20260708T213000
DESCRIPTION:Interpreten: Katharine Mehrling (Gesang)\, Berliner Ensemble\, Adam Benzwi (Leitung)\, Oliver Reese (Regie)\, Paul Herwig (Rezitation) \nProgramm: Werke von Eisler u. a. \nhttps://www.concerti.de/termine/fremder-als-der-mond-821703/
LOCATION:Kurtheater\, Bad Kissingen
END:VEVENT
END:VCALENDAR