BEGIN:VCALENDAR
VERSION:2.0
PRODID:concerti//https://www.concerti.de
CALSCALE:GREGORIAN
BEGIN:VTIMEZONE
TZID:Europe/Berlin
X-LIC-LOCATION:Europe/Berlin
BEGIN:DAYLIGHT
TZOFFSETFROM:+0100
TZOFFSETTO:+0200
TZNAME:CEST
DTSTART:19700329T020000
RRULE:FREQ=YEARLY;BYMONTH=3;BYDAY=-1SU
END:DAYLIGHT
BEGIN:STANDARD
TZOFFSETFROM:+0200
TZOFFSETTO:+0100
TZNAME:CET
DTSTART:19701025T030000
RRULE:FREQ=YEARLY;BYMONTH=10;BYDAY=-1SU
END:STANDARD
END:VTIMEZONE
BEGIN:VEVENT
UID:b19a9fa38b3af2e7527d25c7e0bca3e8
SUMMARY:Daniela Braun (Violine), Frank Schulte (Klavier), Ralf Templin (Gitarre), Felix Kroll (Akkordeon), Arnulf Ballhorn (Bass), Dagmar Manzel (Gesang &#038; Rezitation) - Kissinger Sommer
URL:https://www.concerti.de/termine/daniela-braun-violine-frank-schulte-klavier-ralf-templin-gitarre-felix-kroll-akkordeon-arnulf-ballhorn-bass-dagmar-manzel-gesang-rezitation-821180/
DTSTART;TZID=Europe/Berlin:20260623T193000
DTEND;TZID=Europe/Berlin:20260623T213000
DESCRIPTION:Interpreten: Daniela Braun (Violine)\, Frank Schulte (Klavier)\, Ralf Templin (Gitarre)\, Felix Kroll (Akkordeon)\, Arnulf Ballhorn (Bass)\, Dagmar Manzel (Gesang & Rezitation) \nProgramm: Werke von Abraham\, Eisler\, Heymann\, Hollaender\, Oehring\, Spoliansky\, Weill u. a. \nhttps://www.concerti.de/termine/daniela-braun-violine-frank-schulte-klavier-ralf-templin-gitarre-felix-kroll-akkordeon-arnulf-ballhorn-bass-dagmar-manzel-gesang-rezitation-821180/
LOCATION:Kurtheater\, Bad Kissingen
END:VEVENT
END:VCALENDAR