BEGIN:VCALENDAR
VERSION:2.0
PRODID:concerti//https://www.concerti.de
CALSCALE:GREGORIAN
BEGIN:VTIMEZONE
TZID:Europe/Berlin
X-LIC-LOCATION:Europe/Berlin
BEGIN:DAYLIGHT
TZOFFSETFROM:+0100
TZOFFSETTO:+0200
TZNAME:CEST
DTSTART:19700329T020000
RRULE:FREQ=YEARLY;BYMONTH=3;BYDAY=-1SU
END:DAYLIGHT
BEGIN:STANDARD
TZOFFSETFROM:+0200
TZOFFSETTO:+0100
TZNAME:CET
DTSTART:19701025T030000
RRULE:FREQ=YEARLY;BYMONTH=10;BYDAY=-1SU
END:STANDARD
END:VTIMEZONE
BEGIN:VEVENT
UID:89b042f3a50a9f1d967907784f3356e3
SUMMARY:Kian Soltani (Violoncello), BBC Symphony Orchestra, Sakari Oramo (Leitung) - Kissinger Sommer
URL:https://www.concerti.de/termine/kian-soltani-violoncello-bbc-symphony-orchestra-sakari-oramo-leitung-regentenbau-bad-kissingen-821177/
DTSTART;TZID=Europe/Berlin:20260621T193000
DTEND;TZID=Europe/Berlin:20260621T213000
DESCRIPTION:Interpreten: Kian Soltani (Violoncello)\, BBC Symphony Orchestra\, Sakari Oramo (Leitung) \nProgramm: Dvořák: Violoncellokonzert h-Moll\, Brahms: Sinfonie Nr. 1 c-Moll \nhttps://www.concerti.de/termine/kian-soltani-violoncello-bbc-symphony-orchestra-sakari-oramo-leitung-regentenbau-bad-kissingen-821177/
LOCATION:Regentenbau Bad Kissingen\, Ludwigstraße 2\, 97688 Bad Kissingen
END:VEVENT
END:VCALENDAR