BEGIN:VCALENDAR
VERSION:2.0
PRODID:concerti//https://www.concerti.de
CALSCALE:GREGORIAN
BEGIN:VTIMEZONE
TZID:Europe/Berlin
X-LIC-LOCATION:Europe/Berlin
BEGIN:DAYLIGHT
TZOFFSETFROM:+0100
TZOFFSETTO:+0200
TZNAME:CEST
DTSTART:19700329T020000
RRULE:FREQ=YEARLY;BYMONTH=3;BYDAY=-1SU
END:DAYLIGHT
BEGIN:STANDARD
TZOFFSETFROM:+0200
TZOFFSETTO:+0100
TZNAME:CET
DTSTART:19701025T030000
RRULE:FREQ=YEARLY;BYMONTH=10;BYDAY=-1SU
END:STANDARD
END:VTIMEZONE
BEGIN:VEVENT
UID:92a571f3116c87d17deefd282b80191f
SUMMARY:Mitglieder der Kantorei Herz-Jesu Bad Kissingen, Münchner Rundfunkorchester, Mihhail Gerts (Leitung) - Kissinger Sommer
URL:https://www.concerti.de/termine/mitglieder-der-kantorei-herz-jesu-bad-kissingen-muenchner-rundfunkorchester-mihhail-gerts-leitung-821161/
DTSTART;TZID=Europe/Berlin:20260620T140000
DTEND;TZID=Europe/Berlin:20260620T160000
DESCRIPTION:Interpreten: Mitglieder der Kantorei Herz-Jesu Bad Kissingen\, Münchner Rundfunkorchester\, Mihhail Gerts (Leitung) \nProgramm: Dvořák: Slawischer Tanz op. 46 Nr. 1 C-Dur\, Händel: Der Messias (Auszug)\, Price: Sinfonie Nr. 1 e-Moll (Auszug)\, Elgar: Pomp and Circumstance (Auszug) \nhttps://www.concerti.de/termine/mitglieder-der-kantorei-herz-jesu-bad-kissingen-muenchner-rundfunkorchester-mihhail-gerts-leitung-821161/
LOCATION:Kurgarten\, Bad Kissingen
END:VEVENT
END:VCALENDAR