BEGIN:VCALENDAR
VERSION:2.0
PRODID:concerti//https://www.concerti.de
CALSCALE:GREGORIAN
BEGIN:VTIMEZONE
TZID:Europe/Berlin
X-LIC-LOCATION:Europe/Berlin
BEGIN:DAYLIGHT
TZOFFSETFROM:+0100
TZOFFSETTO:+0200
TZNAME:CEST
DTSTART:19700329T020000
RRULE:FREQ=YEARLY;BYMONTH=3;BYDAY=-1SU
END:DAYLIGHT
BEGIN:STANDARD
TZOFFSETFROM:+0200
TZOFFSETTO:+0100
TZNAME:CET
DTSTART:19701025T030000
RRULE:FREQ=YEARLY;BYMONTH=10;BYDAY=-1SU
END:STANDARD
END:VTIMEZONE
BEGIN:VEVENT
UID:17ddbbef21d55d92580cc4a965ac400e
SUMMARY:Rudolf Buchbinder (Klavier), Orchestra Giovanile Luigi Cherubini, Riccardo Muti (Leitung) - Grafenegg Festival
URL:https://www.concerti.de/termine/rudolf-buchbinder-klavier-orchestra-giovanile-luigi-cherubini-riccardo-muti-leitung-820509/
DTSTART;TZID=Europe/Berlin:20260906T190000
DTEND;TZID=Europe/Berlin:20260906T210000
DESCRIPTION:Interpreten: Rudolf Buchbinder (Klavier)\, Orchestra Giovanile Luigi Cherubini\, Riccardo Muti (Leitung) \nProgramm: Cimarosa: Ouvertüre zu „Il matrimonio segreto“\, Mozart: Klavierkonzert d-Moll KV 466\, Martucci: Notturno Ges-Dur op. 70/1\, Verdi: Le quattro stagioni aus „I vespri siciliani“ \nhttps://www.concerti.de/termine/rudolf-buchbinder-klavier-orchestra-giovanile-luigi-cherubini-riccardo-muti-leitung-820509/
LOCATION:Schloss Grafenegg\, Grafenegg 10\, 3485 Grafenegg
END:VEVENT
END:VCALENDAR