BEGIN:VCALENDAR
VERSION:2.0
PRODID:concerti//https://www.concerti.de
CALSCALE:GREGORIAN
BEGIN:VTIMEZONE
TZID:Europe/Berlin
X-LIC-LOCATION:Europe/Berlin
BEGIN:DAYLIGHT
TZOFFSETFROM:+0100
TZOFFSETTO:+0200
TZNAME:CEST
DTSTART:19700329T020000
RRULE:FREQ=YEARLY;BYMONTH=3;BYDAY=-1SU
END:DAYLIGHT
BEGIN:STANDARD
TZOFFSETFROM:+0200
TZOFFSETTO:+0100
TZNAME:CET
DTSTART:19701025T030000
RRULE:FREQ=YEARLY;BYMONTH=10;BYDAY=-1SU
END:STANDARD
END:VTIMEZONE
BEGIN:VEVENT
UID:291bcb6f1f906ae2b619ef0c720f84c0
SUMMARY:Yuja Wang (Klavier &amp; Leitung), Mahler Chamber Orchestra, Teddy Abrams (Leitung) - Grafenegg Festival
URL:https://www.concerti.de/termine/yuja-wang-klavier-leitung-mahler-chamber-orchestra-teddy-abrams-leitung-820500/
DTSTART;TZID=Europe/Berlin:20260905T190000
DTEND;TZID=Europe/Berlin:20260905T210000
DESCRIPTION:Interpreten: Yuja Wang (Klavier & Leitung)\, Mahler Chamber Orchestra\, Teddy Abrams (Leitung) \nProgramm: Copland: Appalachian Spring\, Barber: Klavierkonzert op. 38 & Mutations from Bach\, Dukas: Fanfare aus „La Peri“\, Prokofjew: Klavierkonzert Nr. 3 C-Dur op. 26 \nhttps://www.concerti.de/termine/yuja-wang-klavier-leitung-mahler-chamber-orchestra-teddy-abrams-leitung-820500/
LOCATION:Schloss Grafenegg\, Grafenegg 10\, 3485 Grafenegg
END:VEVENT
END:VCALENDAR